Workbook

Sheet 2025 (old)
B1: Program Year: | C1: CASCADE NATURAL GAS CORPORATION
B2: 2025 | C2: COMMERCIAL Program Participant Cost Effectiveness
A3: Measure Mapping | B3: MEASURE | C3: DESCRIPTION | D3: EFFICIENCY TYPE FOR QUALIFICATION | E3: TOTAL PROJECT COUNT | F3: ANNUAL THERM SAVINGS | G3: UNIT | H3: UNITS INSTALLED | I3: TOTAL ANNUAL THERM SAVINGS | J3: MEASURE INCREMENTAL COST | K3: TOTAL INCREMENTAL COST | L3: PARTICIPANT NEBS | M3: TOTAL NET INCREMENTAL COST WITH NEBS | N3: MEASURE LIFE | O3: DISCOUNTED THERM SAVINGS | P3: PROGRAM DELIVERY AND ADMIN | Q3: PROGRAM REBATE | R3: CALCULATED REBATE COST | S3: REBATES BASED ON CAPPED INCENTIVES | T3: UTILITY COST | U3: UC W/DELIVERY & ADMIN | V3: LOADED UTILITY BENEFIT TO COST RATIO | X3: TOTAL RESOURCE COST | Y3: TRC W/DELIVERY & ADMIN | Z3: LOADED SOCIETAL BENEFIT TO COST RATIO
B4: Boiler | C4: High-Efficiency-Condensing Boiler | D4: Minimum 90% Thermal Efficiency and 300 kBtu/hr input | E4: 12 | F4: =I4/H4 -> 2.1 | G4: /kBtu/hr in | H4: 44215.5 | I4: 92852.55 | J4: 10.74 | K4: =H4*J4 -> 474874.47 | L4: =PV($C$34,$N4,(-0.05*0.9*$F4)) -> 1.3239051 | M4: =MAX(0,H4*(J4-L4)) -> 416337.34 | N4: 25 | O4: =PV($C$34,N4,-I4) -> 1300825.1 | P4: =$C$37*I4/SUM($I$4:$I$19) -> 320537.48 | Q4: 10.25 | R4: =H4*Q4 -> 453208.88 | T4: =IF(ISERROR(R4/O4),0,R4/O4) -> 0.34840109 | U4: =IF(O4=0,0,(R4+P4)/O4) -> 0.59481199 | V4: =IF(OR($R4=0,ISERROR(R4/I4)),"-",(VLOOKUP($N4,'[1]APP 2885'!B10:G59,6)*$I4)/($R4+$P4)) -> 5.6819788 | X4: =IF(ISERROR(M4/O4),0,M4/O4) -> 0.32005636 | Y4: =IF(O4=0,0,(M4+P4)/O4) -> 0.56646726 | Z4: =IF($M4=0,"-",(VLOOKUP($N4,'[1]APP 2885'!B10:G59,4)*$I4)/(M4+P4)) -> 5.4234093
B5: Convection Oven (Restaurant) | C5: Energy Star | D5: Energy Star | E5: 1 | F5: =I5/H5 -> 649 | G5: /oven | H5: 1 | I5: 649 | J5: 900 | K5: =H5*J5 -> 900 | L5: =PV($C$34,$N5,(-0.05*0.9*$F5)) -> 257.97755 | M5: =MAX(0,H5*(J5-L5)) -> 642.02245 | N5: 12 | O5: =PV($C$34,N5,-I5) -> 5732.8344 | P5: =$C$37*I5/SUM($I$4:$I$19) -> 2240.4212 | Q5: 800 | R5: =H5*Q5 -> 800 | T5: =IF(ISERROR(R5/O5),0,R5/O5) -> 0.13954703 | U5: =IF(O5=0,0,(R5+P5)/O5) -> 0.53035218 | V5: =IF(OR($R5=0,ISERROR(R5/I5)),"-",(VLOOKUP($N5,'[1]APP 2885'!B10:G59,6)*$I5)/($R5+$P5)) -> 3.5027697 | X5: =IF(ISERROR(M5/O5),0,M5/O5) -> 0.11199041 | Y5: =IF(O5=0,0,(M5+P5)/O5) -> 0.50279555 | Z5: =IF($M5=0,"-",(VLOOKUP($N5,'[1]APP 2885'!B10:G59,4)*$I5)/(M5+P5)) -> 3.3593302
B6: DCV | C6: Demand Control Ventilation | D6: Meet JUARC Guidelines for DCV RTUs in 5-20 ton | E6: 2 | F6: =I6/H6 -> 11.301685 | G6: /ton | H6: 415.5 | I6: 4695.85 | J6: 106.82 | K6: =H6*J6 -> 44383.71 | L6: =PV($C$34,$N6,(-0.05*0.9*$F6)) -> 5.2574991 | M6: =MAX(0,H6*(J6-L6)) -> 42199.219 | N6: 15 | O6: =PV($C$34,N6,-I6) -> 48544.242 | P6: =$C$37*I6/SUM($I$4:$I$19) -> 16210.604 | Q6: 50 | R6: =H6*Q6 -> 20775 | T6: =IF(ISERROR(R6/O6),0,R6/O6) -> 0.42796013 | U6: =IF(O6=0,0,(R6+P6)/O6) -> 0.76189477 | V6: =IF(OR($R6=0,ISERROR(R6/I6)),"-",(VLOOKUP($N6,'[1]APP 2885'!B10:G59,6)*$I6)/($R6+$P6)) -> 2.6261289 | X6: =IF(ISERROR(M6/O6),0,M6/O6) -> 0.86929402 | Y6: =IF(O6=0,0,(M6+P6)/O6) -> 1.2032287 | Z6: =IF($M6=0,"-",(VLOOKUP($N6,'[1]APP 2885'!B10:G59,4)*$I6)/(M6+P6)) -> 1.5114235
B7: Domestic Hot Water Tanks - Condensing | C7: Condensing Tank | D7: Min 91% AFUE or 91% TE | E7: 4 | F7: =I7/H7 -> 3.7986959 | G7: /kBtu/hr in | H7: 2937 | I7: 11156.77 | J7: 2.57 | K7: =H7*J7 -> 7548.09 | L7: =PV($C$34,$N7,(-0.05*0.9*$F7)) -> 1.3161259 | M7: =MAX(0,H7*(J7-L7)) -> 3682.6282 | N7: 10 | O7: =PV($C$34,N7,-I7) -> 85899.152 | P7: =$C$37*I7/SUM($I$4:$I$19) -> 38514.428 | Q7: 3 | R7: =H7*Q7 -> 8811 | T7: =IF(ISERROR(R7/O7),0,R7/O7) -> 0.10257377 | U7: =IF(O7=0,0,(R7+P7)/O7) -> 0.55094174 | V7: =IF(OR($R7=0,ISERROR(R7/I7)),"-",(VLOOKUP($N7,'[1]APP 2885'!B10:G59,6)*$I7)/($R7+$P7)) -> 3.257158 | X7: =IF(ISERROR(M7/O7),0,M7/O7) -> 0.042871531 | Y7: =IF(O7=0,0,(M7+P7)/O7) -> 0.4912395 | Z7: =IF($M7=0,"-",(VLOOKUP($N7,'[1]APP 2885'!B10:G59,4)*$I7)/(M7+P7)) -> 3.3208248
B8: Insulation - Attic - Tier 1 - Min R-30 | C8: Attic Insulation | D8: TIER 1 - MINIMUM R-30 | E8: 6 | F8: =I8/H8 -> 0.31 | G8: /sq.ft. | H8: 144674 | I8: 44848.94 | J8: 0.88 | K8: =H8*J8 -> 127313.12 | L8: =PV($C$34,$N8,(-0.05*0.9*$F8)) -> 0.21298675 | M8: =MAX(0,H8*(J8-L8)) -> 96499.474 | N8: 30 | O8: =PV($C$34,N8,-I8) -> 684747.68 | P8: =$C$37*I8/SUM($I$4:$I$19) -> 154823.6 | Q8: 2 | R8: =H8*Q8 -> 289348 | T8: =IF(ISERROR(R8/O8),0,R8/O8) -> 0.42256149 | U8: =IF(O8=0,0,(R8+P8)/O8) -> 0.64866463 | V8: =IF(OR($R8=0,ISERROR(R8/I8)),"-",(VLOOKUP($N8,'[1]APP 2885'!B11:G60,6)*$I8)/($R8+$P8)) -> 5.728945 | X8: =IF(ISERROR(M8/O8),0,M8/O8) -> 0.14092706 | Y8: =IF(O8=0,0,(M8+P8)/O8) -> 0.36703019 | Z8: =IF($M8=0,"-",(VLOOKUP($N8,'[1]APP 2885'!B11:G60,4)*$I8)/(M8+P8)) -> 9.2045203
B9: Insulation - Attic - Tier 2 - Min R-45 | C9: Attic Insulation | D9: TIER 2 - MINIMUM R-45 | E9: 12 | F9: =I9/H9 -> 0.32 | G9: /sq.ft. | H9: 48510 | I9: 15523.2 | J9: 1.31 | K9: =H9*J9 -> 63548.1 | L9: =PV($C$34,$N9,(-0.05*0.9*$F9)) -> 0.21985729 | M9: =MAX(0,H9*(J9-L9)) -> 52882.823 | N9: 30 | O9: =PV($C$34,N9,-I9) -> 237006.16 | P9: =$C$37*I9/SUM($I$4:$I$19) -> 53587.837 | Q9: 2.5 | R9: =H9*Q9 -> 121275 | T9: =IF(ISERROR(R9/O9),0,R9/O9) -> 0.51169555 | U9: =IF(O9=0,0,(R9+P9)/O9) -> 0.73779869 | V9: =IF(OR($R9=0,ISERROR(R9/I9)),"-",(VLOOKUP($N9,'[1]APP 2885'!B10:G59,6)*$I9)/($R9+$P9)) -> 5.0368265 | X9: =IF(ISERROR(M9/O9),0,M9/O9) -> 0.22312847 | Y9: =IF(O9=0,0,(M9+P9)/O9) -> 0.44923161 | Z9: =IF($M9=0,"-",(VLOOKUP($N9,'[1]APP 2885'!B10:G59,4)*$I9)/(M9+P9)) -> 7.5202563
B10: Insulation - Floor | C10: Floor Insulation | D10: EQUAL OR >R-30 PRE R <R-11 | E10: 7 | F10: =I10/H10 -> 0.056000185 | G10: /sq. ft. | H10: 32454 | I10: 1817.43 | J10: 1.08 | K10: =H10*J10 -> 35050.32 | L10: =PV($C$34,$N10,(-0.05*0.9*$F10)) -> 0.038475154 | M10: =MAX(0,H10*(J10-L10)) -> 33801.647 | N10: 30 | O10: =PV($C$34,N10,-I10) -> 27748.281 | P10: =$C$37*I10/SUM($I$4:$I$19) -> 6273.9734 | Q10: 1.25 | R10: =H10*Q10 -> 40567.5 | T10: =IF(ISERROR(R10/O10),0,R10/O10) -> 1.4619825 | U10: =IF(O10=0,0,(R10+P10)/O10) -> 1.6880856 | V10: =IF(OR($R10=0,ISERROR(R10/I10)),"-",(VLOOKUP($N10,'[1]APP 2885'!B10:G59,6)*$I10)/($R10+$P10)) -> 2.2014073 | X10: =IF(ISERROR(M10/O10),0,M10/O10) -> 1.2181529 | Y10: =IF(O10=0,0,(M10+P10)/O10) -> 1.444256 | Z10: =IF($M10=0,"-",(VLOOKUP($N10,'[1]APP 2885'!B10:G59,4)*$I10)/(M10+P10)) -> 2.3391538
B11: Insulation - Roof - Tier 2 - Min R-30 | C11: Roof Insulation | D11: TIER 2 - MINIMUM R-30 | E11: 1 | F11: =I11/H11 -> 0.7572625 | G11: /sq.ft. | H11: 2400 | I11: 1817.43 | J11: 2.15 | K11: =H11*J11 -> 5160 | L11: =PV($C$34,$N11,(-0.05*0.9*$F11)) -> 0.52028026 | M11: =MAX(0,H11*(J11-L11)) -> 3911.3274 | N11: 30 | O11: =PV($C$34,N11,-I11) -> 27748.281 | P11: =$C$37*I11/SUM($I$4:$I$19) -> 6273.9734 | Q11: 2 | R11: =H11*Q11 -> 4800 | T11: =IF(ISERROR(R11/O11),0,R11/O11) -> 0.17298369 | U11: =IF(O11=0,0,(R11+P11)/O11) -> 0.39908683 | V11: =IF(OR($R11=0,ISERROR(R11/I11)),"-",(VLOOKUP($N11,'[1]APP 2885'!B10:G59,6)*$I11)/($R11+$P11)) -> 9.3116678 | X11: =IF(ISERROR(M11/O11),0,M11/O11) -> 0.14095747 | Y11: =IF(O11=0,0,(M11+P11)/O11) -> 0.36706061 | Z11: =IF($M11=0,"-",(VLOOKUP($N11,'[1]APP 2885'!B10:G59,4)*$I11)/(M11+P11)) -> 9.2037576
B12: Insulation - Wall - Tier 2 - Min R-19 | C12: Wall Insulation | D12: R-19 MINIMUM | E12: 9 | F12: =I12/H12 -> 0.19 | G12: /sq. ft. | H12: 16834 | I12: 3198.46 | J12: 1.74 | K12: =H12*J12 -> 29291.16 | L12: =PV($C$34,$N12,(-0.05*0.9*$F12)) -> 0.13054027 | M12: =MAX(0,H12*(J12-L12)) -> 27093.645 | N12: 30 | O12: =PV($C$34,N12,-I12) -> 48833.664 | P12: =$C$37*I12/SUM($I$4:$I$19) -> 11041.445 | Q12: 2 | R12: =H12*Q12 -> 33668 | T12: =IF(ISERROR(R12/O12),0,R12/O12) -> 0.68944243 | U12: =IF(O12=0,0,(R12+P12)/O12) -> 0.91554557 | V12: =IF(OR($R12=0,ISERROR(R12/I12)),"-",(VLOOKUP($N12,'[1]APP 2885'!B10:G59,6)*$I12)/($R12+$P12)) -> 4.0589613 | X12: =IF(ISERROR(M12/O12),0,M12/O12) -> 0.55481491 | Y12: =IF(O12=0,0,(M12+P12)/O12) -> 0.78091805 | Z12: =IF($M12=0,"-",(VLOOKUP($N12,'[1]APP 2885'!B10:G59,4)*$I12)/(M12+P12)) -> 4.3261093
B13: Radiant Heating | C13: Direct-fired Radiant Heating | D13: Direct-Fired | E13: 1 | F13: =I13/H13 -> 4.33 | G13: /kBtu/hr in | H13: 300 | I13: 1299 | J13: 21 | K13: =H13*J13 -> 6300 | L13: =PV($C$34,$N13,(-0.05*0.9*$F13)) -> 2.2670765 | M13: =MAX(0,H13*(J13-L13)) -> 5619.877 | N13: 18 | O13: =PV($C$34,N13,-I13) -> 15113.843 | P13: =$C$37*I13/SUM($I$4:$I$19) -> 4484.2945 | Q13: 15 | R13: =H13*Q13 -> 4500 | T13: =IF(ISERROR(R13/O13),0,R13/O13) -> 0.29774028 | U13: =IF(O13=0,0,(R13+P13)/O13) -> 0.59444142 | V13: =IF(OR($R13=0,ISERROR(R13/I13)),"-",(VLOOKUP($N13,'[1]APP 2885'!B10:G59,6)*$I13)/($R13+$P13)) -> 3.5905965 | X13: =IF(ISERROR(M13/O13),0,M13/O13) -> 0.3718364 | Y13: =IF(O13=0,0,(M13+P13)/O13) -> 0.66853753 | Z13: =IF($M13=0,"-",(VLOOKUP($N13,'[1]APP 2885'!B10:G59,4)*$I13)/(M13+P13)) -> 2.902902
B14: Tankless Water Heater - Tier 2 | C14: Energy Star | D14: TIER 2 - 0.93 EF MINIMUM | E14: 4 | F14: =I14/H14 -> 38 | G14: /gpm | H14: 48 | I14: 1824 | J14: 52.8 | K14: =H14*J14 -> 2534.4 | L14: =PV($C$34,$N14,(-0.05*0.9*$F14)) -> 21.202381 | M14: =MAX(0,H14*(J14-L14)) -> 1516.6857 | N14: 20 | O14: =PV($C$34,N14,-I14) -> 22615.873 | P14: =$C$37*I14/SUM($I$4:$I$19) -> 6296.6537 | Q14: 150 | R14: =H14*Q14 -> 7200 | T14: =IF(ISERROR(R14/O14),0,R14/O14) -> 0.31836047 | U14: =IF(O14=0,0,(R14+P14)/O14) -> 0.59677793 | V14: =IF(OR($R14=0,ISERROR(R14/I14)),"-",(VLOOKUP($N14,'[1]APP 2885'!B10:G59,6)*$I14)/($R14+$P14)) -> 5.3098317 | X14: =IF(ISERROR(M14/O14),0,M14/O14) -> 0.067062886 | Y14: =IF(O14=0,0,(M14+P14)/O14) -> 0.34548034 | Z14: =IF($M14=0,"-",(VLOOKUP($N14,'[1]APP 2885'!B10:G59,4)*$I14)/(M14+P14)) -> 8.3387238
B15: Warm-Air Furnace | C15: High-Efficiency Condensing Furnace | D15: 91% AFUE MINIMUM | E15: 12 | F15: =I15/H15 -> 1.1 | G15: /kBtu/hr in | H15: 1038 | I15: 1141.8 | J15: 0.51 | K15: =H15*J15 -> 529.38 | L15: =PV($C$34,$N15,(-0.05*0.9*$F15)) -> 0.57593168 | M15: =MAX(0,H15*(J15-L15)) -> 0 | N15: 18 | O15: =PV($C$34,N15,-I15) -> 13284.824 | P15: =$C$37*I15/SUM($I$4:$I$19) -> 3941.6224 | Q15: 6 | R15: =H15*Q15 -> 6228 | T15: =IF(ISERROR(R15/O15),0,R15/O15) -> 0.46880561 | U15: =IF(O15=0,0,(R15+P15)/O15) -> 0.76550675 | V15: =IF(OR($R15=0,ISERROR(R15/I15)),"-",(VLOOKUP($N15,'[1]APP 2885'!B10:G59,6)*$I15)/($R15+$P15)) -> 2.7882175 | X15: =IF(ISERROR(M15/O15),0,M15/O15) -> 0 | Y15: =IF(O15=0,0,(M15+P15)/O15) -> 0.29670114 | Z15: =IF($M15=0,"-",(VLOOKUP($N15,'[1]APP 2885'!B10:G59,4)*$I15)/(M15+P15)) -> -
B16: Windows - Tier 1 | C16: Single pane to 0.30 or less | D16: Single pane to 0.30 or less | E16: 4 | F16: =I16/H16 -> 0.48770016 | G16: /sq. ft. | H16: 1602.46 | I16: 781.52 | J16: 24.15 | K16: =H16*J16 -> 38699.409 | L16: =PV($C$34,$N16,(-0.05*0.9*$F16)) -> 0.38667843 | M16: =MAX(0,H16*(J16-L16)) -> 38079.772 | N16: 45 | O16: =PV($C$34,N16,-I16) -> 13769.705 | P16: =$C$37*I16/SUM($I$4:$I$19) -> 2697.8952 | Q16: 7.5 | R16: =H16*Q16 -> 12018.45 | T16: =IF(ISERROR(R16/O16),0,R16/O16) -> 0.87281828 | U16: =IF(O16=0,0,(R16+P16)/O16) -> 1.0687481 | V16: =IF(OR($R16=0,ISERROR(R16/I16)),"-",(VLOOKUP($N16,'[1]APP 2885'!B10:G59,6)*$I16)/($R16+$P16)) -> 5.1165046 | X16: =IF(ISERROR(M16/O16),0,M16/O16) -> 2.7654749 | Y16: =IF(O16=0,0,(M16+P16)/O16) -> 2.9614046 | Z16: =IF($M16=0,"-",(VLOOKUP($N16,'[1]APP 2885'!B10:G59,4)*$I16)/(M16+P16)) -> 1.6786967
B17: Windows - Tier 2 | C17: Single pane to .22 or less (not LoadMAP's .50 to .22) per sq ft | D17: U-.22 or less | E17: 1 | F17: =I17/H17 -> 0.54 | G17: /sq. ft. | H17: 115 | I17: 62.1 | J17: 24.15 | K17: =H17*J17 -> 2777.25 | L17: =PV($C$34,$N17,(-0.05*0.9*$F17)) -> 0.42814493 | M17: =MAX(0,H17*(J17-L17)) -> 2728.0133 | N17: 45 | O17: =PV($C$34,N17,-I17) -> 1094.1481 | P17: =$C$37*I17/SUM($I$4:$I$19) -> 214.3762 | Q17: 9 | R17: =H17*Q17 -> 1035 | T17: =IF(ISERROR(R17/O17),0,R17/O17) -> 0.94594137 | U17: =IF(O17=0,0,(R17+P17)/O17) -> 1.1418711 | V17: =IF(OR($R17=0,ISERROR(R17/I17)),"-",(VLOOKUP($N17,'[1]APP 2885'!B10:G59,6)*$I17)/($R17+$P17)) -> 4.7888541 | X17: =IF(ISERROR(M17/O17),0,M17/O17) -> 2.493276 | Y17: =IF(O17=0,0,(M17+P17)/O17) -> 2.6892058 | Z17: =IF($M17=0,"-",(VLOOKUP($N17,'[1]APP 2885'!B10:G59,4)*$I17)/(M17+P17)) -> 1.8486128
B18: Bonus - HVAC | C18: HVAC Bonus | E18: 26 | F18: =I18/H18 -> 0 | G18: /unit | H18: 43 | I18: 0 | J18: 0 | K18: =H18*J18 -> 0 | L18: =PV($C$34,$N18,(-0.05*0.9*$F18)) -> 0 | M18: =MAX(0,H18*(J18-L18)) -> 0 | O18: =PV($C$34,N18,-I18) -> 0 | P18: =$C$37*I18/SUM($I$4:$I$19) -> 0 | Q18: 100 | R18: =H18*Q18 -> 4300 | T18: =IF(ISERROR(R18/O18),0,R18/O18) -> 0 | U18: =IF(O18=0,0,(R18+P18)/O18) -> 0 | V18: =IF(OR($R18=0,ISERROR(R18/I18)),"-",(VLOOKUP($N18,'[1]APP 2885'!B10:G59,6)*$I18)/($R18+$P18)) -> - | X18: =IF(ISERROR(M18/O18),0,M18/O18) -> 0 | Y18: =IF(O18=0,0,(M18+P18)/O18) -> 0 | Z18: =IF($M18=0,"-",(VLOOKUP($N18,'[1]APP 2885'!B10:G59,4)*$I18)/(M18+P18)) -> -
B19: Bonus - Insulation Bundle A | C19: Insulation Bundle A | D19: Two Insulation Measures, min. 1000 sq. ft.+ | E19: 6 | F19: =I19/H19 -> 0 | G19: /unit | H19: 6 | I19: 0 | J19: 0 | K19: =H19*J19 -> 0 | L19: =PV($C$34,$N19,(-0.05*0.9*$F19)) -> 0 | M19: =MAX(0,H19*(J19-L19)) -> 0 | O19: =PV($C$34,N19,-I19) -> 0 | P19: =$C$37*I19/SUM($I$4:$I$19) -> 0 | Q19: 500 | R19: =H19*Q19 -> 3000 | T19: =IF(ISERROR(R19/O19),0,R19/O19) -> 0 | U19: =IF(O19=0,0,(R19+P19)/O19) -> 0 | V19: =IF(OR($R19=0,ISERROR(R19/I19)),"-",(VLOOKUP($N19,'[1]APP 2885'!B10:G59,6)*$I19)/($R19+$P19)) -> - | X19: =IF(ISERROR(M19/O19),0,M19/O19) -> 0 | Y19: =IF(O19=0,0,(M19+P19)/O19) -> 0 | Z19: =IF($M19=0,"-",(VLOOKUP($N19,'[1]APP 2885'!B10:G59,4)*$I19)/(M19+P19)) -> -
B20: Custom Measures
A21: 008794-C-Manzana Products Co | B21: Custom DDC Controls | F21: 14435 | G21: /unit | H21: 1 | I21: 14435 | J21: 74950 | K21: =H21*J21 -> 74950 | L21: =PV($C$34,$N21,(-0.05*0.9*$F21)) -> 6715.105 | M21: =MAX(0,H21*(J21-L21)) -> 68234.895 | N21: 15 | O21: =PV($C$34,N21,-I21) -> 149224.56 | P21: =$C$36*I21/SUM($I$21:$I$29) -> 37427.837 | R21: 34644 | T21: =IF(ISERROR(R21/O21),0,R21/O21) -> 0.23216018 | U21: =IF(O21=0,0,(R21+P21)/O21) -> 0.48297571 | V21: =IF($R21=0,"-",(VLOOKUP($N21,'[1]APP 2885'!$B$10:$G$59,6)*$I21)/($R21+$P21)) -> 4.1427214 | X21: =IF(ISERROR(M21/O21),0,M21/O21) -> 0.45726318 | Y21: =IF(O21=0,0,(M21+P21)/O21) -> 0.70807871 | Z21: =IF($M21=0,"-",(VLOOKUP($N21,'[1]APP 2885'!$B$10:$G$59,4)*$I21)/(M21+P21)) -> 2.5683417
A22: 008819-C-Manzana Products Co | B22: Custom Heat Recovery | F22: 28207 | G22: /unit | H22: 1 | I22: 28207 | J22: 99950 | K22: =H22*J22 -> 99950 | L22: =PV($C$34,$N22,(-0.05*0.9*$F22)) -> 13121.785 | M22: =MAX(0,H22*(J22-L22)) -> 86828.215 | N22: 15 | O22: =PV($C$34,N22,-I22) -> 291595.22 | P22: =$C$36*I22/SUM($I$21:$I$29) -> 73136.611 | R22: 90940 | T22: =IF(ISERROR(R22/O22),0,R22/O22) -> 0.31187068 | U22: =IF(O22=0,0,(R22+P22)/O22) -> 0.56268621 | V22: =IF($R22=0,"-",(VLOOKUP($N22,'[1]APP 2885'!$B$10:$G$59,6)*$I22)/($R22+$P22)) -> 3.5558608 | X22: =IF(ISERROR(M22/O22),0,M22/O22) -> 0.29776967 | Y22: =IF(O22=0,0,(M22+P22)/O22) -> 0.54858521 | Z22: =IF($M22=0,"-",(VLOOKUP($N22,'[1]APP 2885'!$B$10:$G$59,4)*$I22)/(M22+P22)) -> 3.3150513
A23: 008795-C-Manzana Products Co | B23: Custom Heat Recovery | F23: 22848 | G23: /unit | H23: 1 | I23: 22848 | J23: 24375 | K23: =H23*J23 -> 24375 | L23: =PV($C$34,$N23,(-0.05*0.9*$F23)) -> 12748.21 | M23: =MAX(0,H23*(J23-L23)) -> 11626.79 | N23: 20 | O23: =PV($C$34,N23,-I23) -> 283293.57 | P23: =$C$36*I23/SUM($I$21:$I$29) -> 59241.511 | R23: 24375 | T23: =IF(ISERROR(R23/O23),0,R23/O23) -> 0.086041488 | U23: =IF(O23=0,0,(R23+P23)/O23) -> 0.29515852 | V23: =IF($R23=0,"-",(VLOOKUP($N23,'[1]APP 2885'!$B$10:$G$59,6)*$I23)/($R23+$P23)) -> 10.735893 | X23: =IF(ISERROR(M23/O23),0,M23/O23) -> 0.041041488 | Y23: =IF(O23=0,0,(M23+P23)/O23) -> 0.25015852 | Z23: =IF($M23=0,"-",(VLOOKUP($N23,'[1]APP 2885'!$B$10:$G$59,4)*$I23)/(M23+P23)) -> 11.516158
A24: 008757-C-Riverside Health Clu | B24: Custom HVAC | F24: 625 | G24: /unit | H24: 1 | I24: 625 | J24: 13440 | K24: =H24*J24 -> 13440 | L24: =PV($C$34,$N24,(-0.05*0.9*$F24)) -> 290.74753 | M24: =MAX(0,H24*(J24-L24)) -> 13149.252 | N24: 15 | O24: =PV($C$34,N24,-I24) -> 6461.0563 | P24: =$C$36*I24/SUM($I$21:$I$29) -> 1620.5333 | R24: 2125 | T24: =IF(ISERROR(R24/O24),0,R24/O24) -> 0.32889359 | U24: =IF(O24=0,0,(R24+P24)/O24) -> 0.57970912 | V24: =IF($R24=0,"-",(VLOOKUP($N24,'[1]APP 2885'!$B$10:$G$59,6)*$I24)/($R24+$P24)) -> 3.4514444 | X24: =IF(ISERROR(M24/O24),0,M24/O24) -> 2.0351552 | Y24: =IF(O24=0,0,(M24+P24)/O24) -> 2.2859708 | Z24: =IF($M24=0,"-",(VLOOKUP($N24,'[1]APP 2885'!$B$10:$G$59,4)*$I24)/(M24+P24)) -> 0.79554302
A25: 008759-C-Living Faith Victory | B25: Custom Insulation | F25: 1120 | G25: /unit | H25: 1 | I25: 1120 | J25: 29984 | K25: =H25*J25 -> 29984 | L25: =PV($C$34,$N25,(-0.05*0.9*$F25)) -> 769.50053 | M25: =MAX(0,H25*(J25-L25)) -> 29214.499 | N25: 30 | O25: =PV($C$34,N25,-I25) -> 17100.012 | P25: =$C$36*I25/SUM($I$21:$I$29) -> 2903.9956 | R25: 8333 | T25: =IF(ISERROR(R25/O25),0,R25/O25) -> 0.48730961 | U25: =IF(O25=0,0,(R25+P25)/O25) -> 0.6571338 | V25: =IF($R25=0,"-",(VLOOKUP($N25,'[1]APP 2885'!$B$10:$G$59,6)*$I25)/($R25+$P25)) -> 5.6551101 | X25: =IF(ISERROR(M25/O25),0,M25/O25) -> 1.7084491 | Y25: =IF(O25=0,0,(M25+P25)/O25) -> 1.8782733 | Z25: =IF($M25=0,"-",(VLOOKUP($N25,'[1]APP 2885'!$B$10:$G$59,4)*$I25)/(M25+P25)) -> 1.7986397
A26: 008811-C-Apex Fitness NW | B26: Custom Insulation | F26: 438 | G26: /unit | H26: 1 | I26: 438 | J26: 13244 | K26: =H26*J26 -> 13244 | L26: =PV($C$34,$N26,(-0.05*0.9*$F26)) -> 300.92967 | M26: =MAX(0,H26*(J26-L26)) -> 12943.07 | N26: 30 | O26: =PV($C$34,N26,-I26) -> 6687.326 | P26: =$C$36*I26/SUM($I$21:$I$29) -> 1135.6697 | R26: 9005 | T26: =IF(ISERROR(R26/O26),0,R26/O26) -> 1.3465771 | U26: =IF(O26=0,0,(R26+P26)/O26) -> 1.5164013 | V26: =IF($R26=0,"-",(VLOOKUP($N26,'[1]APP 2885'!$B$10:$G$59,6)*$I26)/($R26+$P26)) -> 2.4506468 | X26: =IF(ISERROR(M26/O26),0,M26/O26) -> 1.9354627 | Y26: =IF(O26=0,0,(M26+P26)/O26) -> 2.1052869 | Z26: =IF($M26=0,"-",(VLOOKUP($N26,'[1]APP 2885'!$B$10:$G$59,4)*$I26)/(M26+P26)) -> 1.6046919
A27: 008812-C-Advanced Concepts LL | B27: Custom Insulation | F27: 136 | G27: /unit | H27: 1 | I27: 136 | J27: 3780 | K27: =H27*J27 -> 3780 | L27: =PV($C$34,$N27,(-0.05*0.9*$F27)) -> 93.43935 | M27: =MAX(0,H27*(J27-L27)) -> 3686.5606 | N27: 30 | O27: =PV($C$34,N27,-I27) -> 2076.43 | P27: =$C$36*I27/SUM($I$21:$I$29) -> 352.62804 | R27: 2660 | T27: =IF(ISERROR(R27/O27),0,R27/O27) -> 1.2810449 | U27: =IF(O27=0,0,(R27+P27)/O27) -> 1.4508691 | V27: =IF($R27=0,"-",(VLOOKUP($N27,'[1]APP 2885'!$B$10:$G$59,6)*$I27)/($R27+$P27)) -> 2.5613366 | X27: =IF(ISERROR(M27/O27),0,M27/O27) -> 1.7754322 | Y27: =IF(O27=0,0,(M27+P27)/O27) -> 1.9452564 | Z27: =IF($M27=0,"-",(VLOOKUP($N27,'[1]APP 2885'!$B$10:$G$59,4)*$I27)/(M27+P27)) -> 1.7367052
A28: 008824-C-B & P VENDING | B28: Custom Insulation | F28: 216 | G28: /unit | H28: 1 | I28: 216 | J28: 7091 | K28: =H28*J28 -> 7091 | L28: =PV($C$34,$N28,(-0.05*0.9*$F28)) -> 148.40367 | M28: =MAX(0,H28*(J28-L28)) -> 6942.5963 | N28: 30 | O28: =PV($C$34,N28,-I28) -> 3297.8594 | P28: =$C$36*I28/SUM($I$21:$I$29) -> 560.0563 | R28: 4225 | T28: =IF(ISERROR(R28/O28),0,R28/O28) -> 1.2811341 | U28: =IF(O28=0,0,(R28+P28)/O28) -> 1.4509582 | V28: =IF($R28=0,"-",(VLOOKUP($N28,'[1]APP 2885'!$B$10:$G$59,6)*$I28)/($R28+$P28)) -> 2.5611791 | X28: =IF(ISERROR(M28/O28),0,M28/O28) -> 2.1051826 | Y28: =IF(O28=0,0,(M28+P28)/O28) -> 2.2750068 | Z28: =IF($M28=0,"-",(VLOOKUP($N28,'[1]APP 2885'!$B$10:$G$59,4)*$I28)/(M28+P28)) -> 1.4849788
A29: 008820-C-Local Bounti LLC | B29: Custom Other | F29: 93223 | G29: /unit | H29: 1 | I29: 93223 | J29: 558200 | K29: =H29*J29 -> 558200 | L29: =PV($C$34,$N29,(-0.05*0.9*$F29)) -> 27047.763 | M29: =MAX(0,H29*(J29-L29)) -> 531152.24 | N29: 8 | O29: =PV($C$34,N29,-I29) -> 601061.41 | P29: =$C$36*I29/SUM($I$21:$I$29) -> 241713.56 | R29: 91359 | T29: =IF(ISERROR(R29/O29),0,R29/O29) -> 0.15199612 | U29: =IF(O29=0,0,(R29+P29)/O29) -> 0.55414065 | V29: =IF($R29=0,"-",(VLOOKUP($N29,'[1]APP 2885'!$B$10:$G$59,6)*$I29)/($R29+$P29)) -> 3.2062006 | X29: =IF(ISERROR(M29/O29),0,M29/O29) -> 0.88369047 | Y29: =IF(O29=0,0,(M29+P29)/O29) -> 1.285835 | Z29: =IF($M29=0,"-",(VLOOKUP($N29,'[1]APP 2885'!$B$10:$G$59,4)*$I29)/(M29+P29)) -> 1.2556532
A30: TOTAL PROGRAM | E30: =SUM(E4:E29) -> 108 | I30: =SUM(I4:I29) -> 342916.05 | K30: =SUM(K4:K29) -> 1663923.4 | M30: =SUM(M4:M29) -> 1488772.6 | N30: =SUMPRODUCT(I4:I29,N4:N29)/SUM(I4:I29) -> 19.114583 | O30: =SUM(O4:O29) -> 3893761.2 | P30: =SUM(P4:P29) -> 1045231 | R30: =SUM(R4:R29)-3237.23 -> 1275963.6 | T30: =IF(ISERROR(R30/O30),0,R30/O30) -> 0.32769436 | U30: =(R30+P30)/O30 -> 0.59613173 | V30: =IF($R30=0,"-",(VLOOKUP($N30,'[1]APP 2885'!$B$10:$G$59,6)*$I30)/($R30+$P30)) -> 5.584764 | X30: =M30/O30 -> 0.3823482 | Y30: =(M30+P30)/O30 -> 0.65078557 | Z30: =IF($M30=0,"-",(VLOOKUP($N30,'[1]APP 2885'!$B$10:$G$59,4)*$I30)/(M30+P30)) -> 4.6511476
B32: Nominal interest rate (post tax cost of cap.) | C32: 0.0506 | J32: non-energy | K32: =K30-M30 -> 175150.82 | R32: =1274732 -> 1274732
B33: Inflation rate | C33: 0.02 | R33: =R30-R32 -> 1231.595
B34: Long term real discount rate | C34: 0.0506
B35: Total 2025 Program Admin. | C35: 1045231
B36: Custom Admin. | C36: =C35*0.4 -> 418092.4
B37: Prescriptive Admin. | C37: =C35*0.6 -> 627138.6
B40: 766935

Sheet Total 2025
B1: Program Year: | C1: CASCADE NATURAL GAS CORPORATION
B2: 2025 | C2: COMMERCIAL Program Participant Cost Effectiveness
A3: Measure Mapping | B3: MEASURE | C3: DESCRIPTION | D3: EFFICIENCY TYPE FOR QUALIFICATION | E3: TOTAL PROJECT COUNT | F3: ANNUAL THERM SAVINGS | G3: UNIT | H3: UNITS INSTALLED | I3: TOTAL ANNUAL THERM SAVINGS | J3: MEASURE INCREMENTAL COST | K3: TOTAL INCREMENTAL COST | L3: PARTICIPANT NEBS | M3: TOTAL NET INCREMENTAL COST WITH NEBS | N3: MEASURE LIFE | O3: DISCOUNTED THERM SAVINGS | P3: PROGRAM DELIVERY AND ADMIN | Q3: PROGRAM REBATE | R3: CALCULATED REBATE COST | S3: REBATES BASED ON CAPPED INCENTIVES | T3: UTILITY COST | U3: UC W/DELIVERY & ADMIN | V3: LOADED UTILITY BENEFIT TO COST RATIO | X3: TOTAL RESOURCE COST | Y3: TRC W/DELIVERY & ADMIN | Z3: LOADED SOCIETAL BENEFIT TO COST RATIO
B4: Boiler | C4: High-Efficiency-Condensing Boiler | D4: Min 90% TE and 300 kBtu/hr input | E4: 22 | F4: 1.68 | G4: /kBtu/hr in | H4: 42745 | I4: =H4*F4 -> 71811.6 | J4: 10.74 | K4: =H4*J4 -> 459081.3 | L4: =PV($C$30,$N4,(-0.05*0.9*$F4)) -> 1.0591241 | M4: =MAX(0,H4*(J4-L4)) -> 413809.04 | N4: 25 | O4: =PV($C$30,N4,-I4) -> 1006050.2 | P4: =$C$33*I4/SUM($I$4:$I$18) -> 316432.72 | Q4: 10.25 | R4: =H4*Q4 -> 438136.25 | T4: =IF(ISERROR(R4/O4),0,R4/O4) -> 0.43550137 | U4: =IF(O4=0,0,(R4+P4)/O4) -> 0.7500311 | V4: =IF(OR($R4=0,ISERROR($R4/$I4)),"-",(VLOOKUP($N4,'APP 2885'!$B$10:$G$59,6)*$I4)/($R4+$P4)) -> 4.506092 | X4: =IF(ISERROR(M4/O4),0,M4/O4) -> 0.41132046 | Y4: =IF(O4=0,0,(M4+P4)/O4) -> 0.72585019 | Z4: =IF($M4=0,"-",(VLOOKUP($N4,'APP 2885'!$B10:$G59,4)*$I4)/($M4+$P4)) -> 4.2325315
B5: Convection Oven (Restaurant) | C5: Energy Star | D5: >= 44% Cooking Efficiency,<= 13,000 Btu/hr Idle Rate | E5: 1 | F5: 649 | G5: /oven | H5: 1 | I5: =H5*F5 -> 649 | J5: 900 | K5: =H5*J5 -> 900 | L5: =PV($C$30,$N5,(-0.05*0.9*$F5)) -> 241.82621 | M5: =MAX(0,H5*(J5-L5)) -> 658.17379 | N5: 11 | O5: =PV($C$30,N5,-I5) -> 5373.9158 | P5: =$C$33*I5/SUM($I$4:$I$18) -> 2859.7724 | Q5: 800 | R5: =H5*Q5 -> 800 | T5: =IF(ISERROR(R5/O5),0,R5/O5) -> 0.14886724 | U5: =IF(O5=0,0,(R5+P5)/O5) -> 0.68102526 | V5: =IF(OR($R5=0,ISERROR($R5/$I5)),"-",(VLOOKUP($N5,'APP 2885'!$B$10:$G$59,6)*$I5)/($R5+$P5)) -> 2.6835513 | X5: =IF(ISERROR(M5/O5),0,M5/O5) -> 0.12247564 | Y5: =IF(O5=0,0,(M5+P5)/O5) -> 0.65463366 | Z5: =IF($M5=0,"-",(VLOOKUP($N5,'APP 2885'!$B11:$G60,4)*$I5)/($M5+$P5)) -> 2.5384811
B6: DCV | C6: Demand Control Ventilation | D6: Meet JUARC Guidelines for DCV RTUs in 5-20 ton | E6: 2 | F6: 11.304 | G6: /ton | H6: 415.5 | I6: =H6*F6 -> 4696.812 | J6: 106.82 | K6: =H6*J6 -> 44383.71 | L6: =PV($C$30,$N6,(-0.05*0.9*$F6)) -> 2.5769563 | M6: =MAX(0,H6*(J6-L6)) -> 43312.985 | N6: 6 | O6: =PV($C$30,N6,-I6) -> 23793.896 | P6: =$C$33*I6/SUM($I$4:$I$18) -> 20696.169 | Q6: 50 | R6: =H6*Q6 -> 20775 | T6: =IF(ISERROR(R6/O6),0,R6/O6) -> 0.87312308 | U6: =IF(O6=0,0,(R6+P6)/O6) -> 1.7429331 | V6: =IF(OR($R6=0,ISERROR($R6/$I6)),"-",(VLOOKUP($N6,'APP 2885'!$B$10:$G$59,6)*$I6)/($R6+$P6)) -> 0.8270777 | X6: =IF(ISERROR(M6/O6),0,M6/O6) -> 1.8203402 | Y6: =IF(O6=0,0,(M6+P6)/O6) -> 2.6901501 | Z6: =IF($M6=0,"-",(VLOOKUP($N6,'APP 2885'!$B12:$G61,4)*$I6)/($M6+$P6)) -> 0.48722456
B7: Domestic Hot Water Tanks - Condensing | C7: Condensing Tank | D7: Min 91% AFUE or 91% TE | E7: 10 | F7: 3.799 | G7: /kBtu/hr in | H7: 2738 | I7: =H7*F7 -> 10401.662 | J7: 2.57 | K7: =H7*J7 -> 7036.66 | L7: =PV($C$30,$N7,(-0.05*0.9*$F7)) -> 1.3162313 | M7: =MAX(0,H7*(J7-L7)) -> 3432.8188 | N7: 10 | O7: =PV($C$30,N7,-I7) -> 80085.36 | P7: =$C$33*I7/SUM($I$4:$I$18) -> 45834.185 | Q7: 3 | R7: =H7*Q7 -> 8214 | T7: =IF(ISERROR(R7/O7),0,R7/O7) -> 0.10256556 | U7: =IF(O7=0,0,(R7+P7)/O7) -> 0.67488221 | V7: =IF(OR($R7=0,ISERROR($R7/$I7)),"-",(VLOOKUP($N7,'APP 2885'!$B$10:$G$59,6)*$I7)/($R7+$P7)) -> 2.6589889 | X7: =IF(ISERROR(M7/O7),0,M7/O7) -> 0.042864498 | Y7: =IF(O7=0,0,(M7+P7)/O7) -> 0.61518115 | Z7: =IF($M7=0,"-",(VLOOKUP($N7,'APP 2885'!$B13:$G62,4)*$I7)/($M7+$P7)) -> 2.6517723
B8: Insulation - Attic - Tier 1 - Min R-30 | C8: Attic Insulation | D8: Minimum R-30 | E8: 5 | F8: 0.31 | G8: /sq.ft. | H8: 108166 | I8: =H8*F8 -> 33531.46 | J8: 0.88 | K8: =H8*J8 -> 95186.08 | L8: =PV($C$30,$N8,(-0.05*0.9*$F8)) -> 0.2457869 | M8: =MAX(0,H8*(J8-L8)) -> 68600.294 | N8: 45 | O8: =PV($C$30,N8,-I8) -> 590795.25 | P8: =$C$33*I8/SUM($I$4:$I$18) -> 147754 | Q8: 2 | R8: =H8*Q8 -> 216332 | T8: =IF(ISERROR(R8/O8),0,R8/O8) -> 0.36617085 | U8: =IF(O8=0,0,(R8+P8)/O8) -> 0.61626426 | V8: =IF(OR($R8=0,ISERROR($R8/$I8)),"-",(VLOOKUP($N8,'APP 2885'!$B$10:$G$59,6)*$I8)/($R8+$P8)) -> 8.8732297 | X8: =IF(ISERROR(M8/O8),0,M8/O8) -> 0.11611518 | Y8: =IF(O8=0,0,(M8+P8)/O8) -> 0.36620858 | Z8: =IF($M8=0,"-",(VLOOKUP($N8,'APP 2885'!$B14:$G63,4)*$I8)/($M8+$P8)) -> 13.575051
B9: Insulation - Attic - Tier 2 - Min R-45 | C9: Attic Insulation | D9: Minimum R-45 | E9: 11 | F9: 0.32 | G9: /sq.ft. | H9: 44070 | I9: =H9*F9 -> 14102.4 | J9: 1.31 | K9: =H9*J9 -> 57731.7 | L9: =PV($C$30,$N9,(-0.05*0.9*$F9)) -> 0.25371551 | M9: =MAX(0,H9*(J9-L9)) -> 46550.457 | N9: 45 | O9: =PV($C$30,N9,-I9) -> 248472.06 | P9: =$C$33*I9/SUM($I$4:$I$18) -> 62141.224 | Q9: 2.5 | R9: =H9*Q9 -> 110175 | T9: =IF(ISERROR(R9/O9),0,R9/O9) -> 0.44341002 | U9: =IF(O9=0,0,(R9+P9)/O9) -> 0.69350343 | V9: =IF(OR($R9=0,ISERROR($R9/$I9)),"-",(VLOOKUP($N9,'APP 2885'!$B$10:$G$59,6)*$I9)/($R9+$P9)) -> 7.8849709 | X9: =IF(ISERROR(M9/O9),0,M9/O9) -> 0.18734685 | Y9: =IF(O9=0,0,(M9+P9)/O9) -> 0.43744026 | Z9: =IF($M9=0,"-",(VLOOKUP($N9,'APP 2885'!$B15:$G64,4)*$I9)/($M9+$P9)) -> 11.364524
B10: Insulation - Floor | C10: Floor Insulation | D10: Post: >=R-30 and Pre: <=R-11 | E10: 6 | F10: 0.056 | G10: /sq. ft. | H10: 23607 | I10: =H10*F10 -> 1321.992 | J10: 1.08 | K10: =H10*J10 -> 25495.56 | L10: =PV($C$30,$N10,(-0.05*0.9*$F10)) -> 0.038475026 | M10: =MAX(0,H10*(J10-L10)) -> 24587.28 | N10: 30 | O10: =PV($C$30,N10,-I10) -> 20183.999 | P10: =$C$33*I10/SUM($I$4:$I$18) -> 5825.2639 | Q10: 1.25 | R10: =H10*Q10 -> 29508.75 | T10: =IF(ISERROR(R10/O10),0,R10/O10) -> 1.4619873 | U10: =IF(O10=0,0,(R10+P10)/O10) -> 1.7505953 | V10: =IF(OR($R10=0,ISERROR($R10/$I10)),"-",(VLOOKUP($N10,'APP 2885'!$B$10:$G$59,6)*$I10)/($R10+$P10)) -> 2.1228001 | X10: =IF(ISERROR(M10/O10),0,M10/O10) -> 1.218157 | Y10: =IF(O10=0,0,(M10+P10)/O10) -> 1.506765 | Z10: =IF($M10=0,"-",(VLOOKUP($N10,'APP 2885'!$B16:$G65,4)*$I10)/($M10+$P10)) -> 2.2421126
B11: Insulation - Roof - Min R-30 | C11: Roof Insulation | D11: Minimum R-30 | E11: 1 | F11: 0.36 | G11: /sq.ft. | H11: 2400 | I11: =H11*F11 -> 864 | J11: 2.15 | K11: =H11*J11 -> 5160 | L11: =PV($C$30,$N11,(-0.05*0.9*$F11)) -> 0.28542995 | M11: =MAX(0,H11*(J11-L11)) -> 4474.9681 | N11: 45 | O11: =PV($C$30,N11,-I11) -> 15222.931 | P11: =$C$33*I11/SUM($I$4:$I$18) -> 3807.1547 | Q11: 2 | R11: =H11*Q11 -> 4800 | T11: =IF(ISERROR(R11/O11),0,R11/O11) -> 0.31531379 | U11: =IF(O11=0,0,(R11+P11)/O11) -> 0.5654072 | V11: =IF(OR($R11=0,ISERROR($R11/$I11)),"-",(VLOOKUP($N11,'APP 2885'!$B$10:$G$59,6)*$I11)/($R11+$P11)) -> 9.6713561 | X11: =IF(ISERROR(M11/O11),0,M11/O11) -> 0.29396232 | Y11: =IF(O11=0,0,(M11+P11)/O11) -> 0.54405573 | Z11: =IF($M11=0,"-",(VLOOKUP($N11,'APP 2885'!$B17:$G66,4)*$I11)/($M11+$P11)) -> 9.1374835
B12: Insulation - Wall - Min R-19 | C12: Wall Insulation | D12: Minimum R-19 | E12: 10 | F12: 0.19 | G12: /sq. ft. | H12: 8354 | I12: =H12*F12 -> 1587.26 | J12: 1.74 | K12: =H12*J12 -> 14535.96 | L12: =PV($C$30,$N12,(-0.05*0.9*$F12)) -> 0.15064359 | M12: =MAX(0,H12*(J12-L12)) -> 13277.483 | N12: 45 | O12: =PV($C$30,N12,-I12) -> 27966.145 | P12: =$C$33*I12/SUM($I$4:$I$18) -> 6994.1485 | Q12: 2 | R12: =H12*Q12 -> 16708 | T12: =IF(ISERROR(R12/O12),0,R12/O12) -> 0.59743665 | U12: =IF(O12=0,0,(R12+P12)/O12) -> 0.84753006 | V12: =IF(OR($R12=0,ISERROR($R12/$I12)),"-",(VLOOKUP($N12,'APP 2885'!$B$10:$G$59,6)*$I12)/($R12+$P12)) -> 6.4519887 | X12: =IF(ISERROR(M12/O12),0,M12/O12) -> 0.47476989 | Y12: =IF(O12=0,0,(M12+P12)/O12) -> 0.7248633 | Z12: =IF($M12=0,"-",(VLOOKUP($N12,'APP 2885'!$B18:$G67,4)*$I12)/($M12+$P12)) -> 6.858259
B13: Tankless Water Heater - Tier 2 | C13: Energy Star | D13: Minimum 0.93 EF | E13: 4 | F13: 37.628 | G13: /gpm | H13: 24 | I13: =H13*F13 -> 903.072 | J13: 52.8 | K13: =H13*J13 -> 1267.2 | L13: =PV($C$30,$N13,(-0.05*0.9*$F13)) -> 13.036891 | M13: =MAX(0,H13*(J13-L13)) -> 954.31461 | N13: 10 | O13: =PV($C$30,N13,-I13) -> 6953.0087 | P13: =$C$33*I13/SUM($I$4:$I$18) -> 3979.3227 | Q13: 150 | R13: =H13*Q13 -> 3600 | T13: =IF(ISERROR(R13/O13),0,R13/O13) -> 0.51776147 | U13: =IF(O13=0,0,(R13+P13)/O13) -> 1.0900781 | V13: =IF(OR($R13=0,ISERROR($R13/$I13)),"-",(VLOOKUP($N13,'APP 2885'!$B$10:$G$59,6)*$I13)/($R13+$P13)) -> 1.6462162 | X13: =IF(ISERROR(M13/O13),0,M13/O13) -> 0.13725204 | Y13: =IF(O13=0,0,(M13+P13)/O13) -> 0.70956869 | Z13: =IF($M13=0,"-",(VLOOKUP($N13,'APP 2885'!$B19:$G68,4)*$I13)/($M13+$P13)) -> 2.2990309
B14: Warm-Air Furnace | C14: High-Efficiency Condensing Furnace | D14: Minimum 91% AFUE | E14: 11 | F14: 1.78 | G14: /kBtu/hr in | H14: 954 | I14: =H14*F14 -> 1698.12 | J14: 0.51 | K14: =H14*J14 -> 486.54 | L14: =PV($C$30,$N14,(-0.05*0.9*$F14)) -> 1.0743506 | M14: =MAX(0,H14*(J14-L14)) -> 0 | N14: 23 | O14: =PV($C$30,N14,-I14) -> 22776.233 | P14: =$C$33*I14/SUM($I$4:$I$18) -> 7482.6452 | Q14: 6 | R14: =H14*Q14 -> 5724 | T14: =IF(ISERROR(R14/O14),0,R14/O14) -> 0.2513146 | U14: =IF(O14=0,0,(R14+P14)/O14) -> 0.57984325 | V14: =IF(OR($R14=0,ISERROR($R14/$I14)),"-",(VLOOKUP($N14,'APP 2885'!$B$10:$G$59,6)*$I14)/($R14+$P14)) -> 5.6558674 | X14: =IF(ISERROR(M14/O14),0,M14/O14) -> 0 | Y14: =IF(O14=0,0,(M14+P14)/O14) -> 0.32852865 | Z14: =IF($M14=0,"-",(VLOOKUP($N14,'APP 2885'!$B20:$G69,4)*$I14)/($M14+$P14)) -> -
B15: Windows - Tier 1 | C15: Single pane to .30 or less per sq ft | D15: 0.3 or less U | E15: 4 | F15: 0.361 | G15: /sq. ft. | H15: 1602.46 | I15: =H15*F15 -> 578.48806 | J15: 24.15 | K15: =H15*J15 -> 38699.409 | L15: =PV($C$30,$N15,(-0.05*0.9*$F15)) -> 0.28622281 | M15: =MAX(0,H15*(J15-L15)) -> 38240.748 | N15: 45 | O15: =PV($C$30,N15,-I15) -> 10192.458 | P15: =$C$33*I15/SUM($I$4:$I$18) -> 2549.0666 | Q15: 7.5 | R15: =H15*Q15 -> 12018.45 | T15: =IF(ISERROR(R15/O15),0,R15/O15) -> 1.1791513 | U15: =IF(O15=0,0,(R15+P15)/O15) -> 1.4292447 | V15: =IF(OR($R15=0,ISERROR($R15/$I15)),"-",(VLOOKUP($N15,'APP 2885'!$B$10:$G$59,6)*$I15)/($R15+$P15)) -> 3.8259749 | X15: =IF(ISERROR(M15/O15),0,M15/O15) -> 3.7518672 | Y15: =IF(O15=0,0,(M15+P15)/O15) -> 4.0019606 | Z15: =IF($M15=0,"-",(VLOOKUP($N15,'APP 2885'!$B21:$G70,4)*$I15)/($M15+$P15)) -> 1.2422162
B16: Windows - Tier 2 | C16: Single pane to .22 or less per sq ft | D16: U-.22 or less | E16: 1 | F16: 0.361 | G16: /sq. ft. | H16: 115 | I16: =H16*F16 -> 41.515 | J16: 24.15 | K16: =H16*J16 -> 2777.25 | L16: =PV($C$30,$N16,(-0.05*0.9*$F16)) -> 0.28622281 | M16: =MAX(0,H16*(J16-L16)) -> 2744.3344 | N16: 45 | O16: =PV($C$30,N16,-I16) -> 731.4583 | P16: =$C$33*I16/SUM($I$4:$I$18) -> 182.9329 | Q16: 9 | R16: =H16*Q16 -> 1035 | T16: =IF(ISERROR(R16/O16),0,R16/O16) -> 1.4149816 | U16: =IF(O16=0,0,(R16+P16)/O16) -> 1.665075 | V16: =IF(OR($R16=0,ISERROR($R16/$I16)),"-",(VLOOKUP($N16,'APP 2885'!$B$10:$G$59,6)*$I16)/($R16+$P16)) -> 3.284089 | X16: =IF(ISERROR(M16/O16),0,M16/O16) -> 3.7518672 | Y16: =IF(O16=0,0,(M16+P16)/O16) -> 4.0019606 | Z16: =IF($M16=0,"-",(VLOOKUP($N16,'APP 2885'!$B22:$G71,4)*$I16)/($M16+$P16)) -> 1.2422162
B17: Bonus - HVAC | C17: HVAC Bonus | E17: 35 | F17: 0 | G17: /unit | H17: 35 | I17: =H17*F17 -> 0 | J17: 0 | K17: =H17*J17 -> 0 | L17: =PV($C$30,$N17,(-0.05*0.9*$F17)) -> 0 | M17: =MAX(0,H17*(J17-L17)) -> 0 | N17: 0 | O17: =PV($C$30,N17,-I17) -> 0 | P17: =$C$33*I17/SUM($I$4:$I$18) -> 0 | Q17: 100 | R17: =H17*Q17 -> 3500 | T17: =IF(ISERROR(R17/O17),0,R17/O17) -> 0 | U17: =IF(O17=0,0,(R17+P17)/O17) -> 0 | V17: =IF(OR($R17=0,ISERROR($R17/$I17)),"-",(VLOOKUP($N17,'APP 2885'!$B$10:$G$59,6)*$I17)/($R17+$P17)) -> - | X17: =IF(ISERROR(M17/O17),0,M17/O17) -> 0 | Y17: =IF(O17=0,0,(M17+P17)/O17) -> 0 | Z17: =IF($M17=0,"-",(VLOOKUP($N17,'APP 2885'!$B23:$G72,4)*$I17)/($M17+$P17)) -> -
B18: Bonus - Insulation Bundle A | C18: Insulation Bundle A | D18: Two Insulation Measures, min. 1000 sq. ft.+ | E18: 5 | F18: 0 | G18: /unit | H18: 5 | I18: =H18*F18 -> 0 | J18: 0 | K18: =H18*J18 -> 0 | L18: =PV($C$30,$N18,(-0.05*0.9*$F18)) -> 0 | M18: =MAX(0,H18*(J18-L18)) -> 0 | N18: 0 | O18: =PV($C$30,N18,-I18) -> 0 | P18: =$C$33*I18/SUM($I$4:$I$18) -> 0 | Q18: 500 | R18: =H18*Q18 -> 2500 | T18: =IF(ISERROR(R18/O18),0,R18/O18) -> 0 | U18: =IF(O18=0,0,(R18+P18)/O18) -> 0 | V18: =IF(OR($R18=0,ISERROR($R18/$I18)),"-",(VLOOKUP($N18,'APP 2885'!$B$10:$G$59,6)*$I18)/($R18+$P18)) -> - | X18: =IF(ISERROR(M18/O18),0,M18/O18) -> 0 | Y18: =IF(O18=0,0,(M18+P18)/O18) -> 0 | Z18: =IF($M18=0,"-",(VLOOKUP($N18,'APP 2885'!$B24:$G73,4)*$I18)/($M18+$P18)) -> -
B19: Custom Measures | P19: =$C$33*I19/SUM($I$4:$I$18) -> 0
A20: 008794-C-Manzana Products Co | B20: Custom DDC Controls | C20: HVAC Controls Upgrade | E20: 1 | F20: =I20/H20 -> 14435 | G20: /unit | H20: 1 | I20: 14435 | J20: 74950 | K20: =H20*J20 -> 74950 | L20: =PV($C$30,$N20,(-0.05*0.9*$F20)) -> 6715.105 | M20: =MAX(0,H20*(J20-L20)) -> 68234.895 | N20: 15 | O20: =PV($C$30,N20,-I20) -> 149224.56 | P20: =$C$32*I20/SUM($I$20:$I$25) -> 152249.63 | R20: 34644 | T20: =IF(ISERROR(R20/O20),0,R20/O20) -> 0.23216018 | U20: =IF(O20=0,0,(R20+P20)/O20) -> 1.2524321 | V20: =IF(OR($R20=0,ISERROR($R20/$I20)),"-",(VLOOKUP($N20,'APP 2885'!$B$10:$G$59,6)*$I20)/($R20+$P20)) -> 1.5975587 | X20: =IF(ISERROR(M20/O20),0,M20/O20) -> 0.45726318 | Y20: =IF(O20=0,0,(M20+P20)/O20) -> 1.4775351 | Z20: =IF($M20=0,"-",(VLOOKUP($N20,'APP 2885'!$B$10:$G$59,4)*$I20)/(M20+P20)) -> 1.2308256
A21: 008795-C-Manzana Products Co | B21: Custom Heat Recovery | C21: Custom Heat Recovery System | E21: 1 | F21: =I21/H21 -> 22848 | G21: /unit | H21: 1 | I21: 22848 | J21: 24375 | K21: =H21*J21 -> 24375 | L21: =PV($C$30,$N21,(-0.05*0.9*$F21)) -> 12748.21 | M21: =MAX(0,H21*(J21-L21)) -> 11626.79 | N21: 20 | O21: =PV($C$30,N21,-I21) -> 283293.57 | P21: =$C$32*I21/SUM($I$20:$I$25) -> 240983.69 | R21: 24375 | T21: =IF(ISERROR(R21/O21),0,R21/O21) -> 0.086041488 | U21: =IF(O21=0,0,(R21+P21)/O21) -> 0.93669154 | V21: =IF(OR($R21=0,ISERROR($R21/$I21)),"-",(VLOOKUP($N21,'APP 2885'!$B$10:$G$59,6)*$I21)/($R21+$P21)) -> 3.3829604 | X21: =IF(ISERROR(M21/O21),0,M21/O21) -> 0.041041488 | Y21: =IF(O21=0,0,(M21+P21)/O21) -> 0.89169154 | Z21: =IF($M21=0,"-",(VLOOKUP($N21,'APP 2885'!$B$10:$G$59,4)*$I21)/(M21+P21)) -> 3.2307867
A22: 008757-C-Riverside Health Clu | B22: Custom HVAC | C22: Custom ERV HVAC | E22: 1 | F22: =I22/H22 -> 625 | G22: /unit | H22: 1 | I22: 625 | J22: 13440 | K22: =H22*J22 -> 13440 | L22: =PV($C$30,$N22,(-0.05*0.9*$F22)) -> 290.74753 | M22: =MAX(0,H22*(J22-L22)) -> 13149.252 | N22: 15 | O22: =PV($C$30,N22,-I22) -> 6461.0563 | P22: =$C$32*I22/SUM($I$20:$I$25) -> 6592.0345 | R22: 2125 | T22: =IF(ISERROR(R22/O22),0,R22/O22) -> 0.32889359 | U22: =IF(O22=0,0,(R22+P22)/O22) -> 1.3491655 | V22: =IF(OR($R22=0,ISERROR($R22/$I22)),"-",(VLOOKUP($N22,'APP 2885'!$B$10:$G$59,6)*$I22)/($R22+$P22)) -> 1.4830158 | X22: =IF(ISERROR(M22/O22),0,M22/O22) -> 2.0351552 | Y22: =IF(O22=0,0,(M22+P22)/O22) -> 3.0554272 | Z22: =IF($M22=0,"-",(VLOOKUP($N22,'APP 2885'!$B$10:$G$59,4)*$I22)/(M22+P22)) -> 0.59519929
A23: 008759-C-Living Faith Victory | B23: Custom Insulation | C23: Custom Insulation | E23: 1 | F23: =I23/H23 -> 1120 | G23: /unit | H23: 1 | I23: 1120 | J23: 29984 | K23: =H23*J23 -> 29984 | L23: =PV($C$30,$N23,(-0.05*0.9*$F23)) -> 769.50053 | M23: =MAX(0,H23*(J23-L23)) -> 29214.499 | N23: 30 | O23: =PV($C$30,N23,-I23) -> 17100.012 | P23: =$C$32*I23/SUM($I$20:$I$25) -> 11812.926 | R23: 8333 | T23: =IF(ISERROR(R23/O23),0,R23/O23) -> 0.48730961 | U23: =IF(O23=0,0,(R23+P23)/O23) -> 1.1781235 | V23: =IF(OR($R23=0,ISERROR($R23/$I23)),"-",(VLOOKUP($N23,'APP 2885'!$B$10:$G$59,6)*$I23)/($R23+$P23)) -> 3.1543077 | X23: =IF(ISERROR(M23/O23),0,M23/O23) -> 1.7084491 | Y23: =IF(O23=0,0,(M23+P23)/O23) -> 2.399263 | Z23: =IF($M23=0,"-",(VLOOKUP($N23,'APP 2885'!$B$10:$G$59,4)*$I23)/(M23+P23)) -> 1.4080728
A24: 008811-C-Apex Fitness NW | B24: Custom Insulation | C24: Custom Attic Insulation | E24: 1 | F24: =I24/H24 -> 438 | G24: /unit | H24: 1 | I24: 438 | J24: 13244 | K24: =H24*J24 -> 13244 | L24: =PV($C$30,$N24,(-0.05*0.9*$F24)) -> 300.92967 | M24: =MAX(0,H24*(J24-L24)) -> 12943.07 | N24: 30 | O24: =PV($C$30,N24,-I24) -> 6687.326 | P24: =$C$32*I24/SUM($I$20:$I$25) -> 4619.6978 | R24: 9005 | T24: =IF(ISERROR(R24/O24),0,R24/O24) -> 1.3465771 | U24: =IF(O24=0,0,(R24+P24)/O24) -> 2.037391 | V24: =IF(OR($R24=0,ISERROR($R24/$I24)),"-",(VLOOKUP($N24,'APP 2885'!$B$10:$G$59,6)*$I24)/($R24+$P24)) -> 1.8239818 | X24: =IF(ISERROR(M24/O24),0,M24/O24) -> 1.9354627 | Y24: =IF(O24=0,0,(M24+P24)/O24) -> 2.6262766 | Z24: =IF($M24=0,"-",(VLOOKUP($N24,'APP 2885'!$B$10:$G$59,4)*$I24)/(M24+P24)) -> 1.2863599
A25: 008812-C-Advanced Concepts LL | B25: Custom Insulation | C25: Custom Wall Insulation | E25: 1 | F25: =I25/H25 -> 136 | G25: /unit | H25: 1 | I25: 136 | J25: 3780 | K25: =H25*J25 -> 3780 | L25: =PV($C$30,$N25,(-0.05*0.9*$F25)) -> 93.43935 | M25: =MAX(0,H25*(J25-L25)) -> 3686.5606 | N25: 30 | O25: =PV($C$30,N25,-I25) -> 2076.43 | P25: =$C$32*I25/SUM($I$20:$I$25) -> 1434.4267 | R25: 2660 | T25: =IF(ISERROR(R25/O25),0,R25/O25) -> 1.2810449 | U25: =IF(O25=0,0,(R25+P25)/O25) -> 1.9718588 | V25: =IF(OR($R25=0,ISERROR($R25/$I25)),"-",(VLOOKUP($N25,'APP 2885'!$B$10:$G$59,6)*$I25)/($R25+$P25)) -> 1.8845995 | X25: =IF(ISERROR(M25/O25),0,M25/O25) -> 1.7754322 | Y25: =IF(O25=0,0,(M25+P25)/O25) -> 2.4662461 | Z25: =IF($M25=0,"-",(VLOOKUP($N25,'APP 2885'!$B$10:$G$59,4)*$I25)/(M25+P25)) -> 1.3698296
A26: TOTAL PROGRAM | E26: =SUM(E4:E25) -> 134 | I26: =SUM(I4:I25) -> 181789.38 | K26: =SUM(K4:K25) -> 912514.37 | M26: =SUM(M4:M25) -> 799497.96 | N26: =SUMPRODUCT(I4:I25,N4:N25)/SUM(I4:I25) -> 27.712203 | O26: =SUM(O4:O25) -> 2523439.9 | P26: =SUM(P4:P25) -> 1044231 | R26: =SUM(R4:R25)-2855.24 -> 952113.21 | T26: =IF(ISERROR(R26/O26),0,R26/O26) -> 0.37730766 | U26: =(R26+P26)/O26 -> 0.79112018 | V26: =IF(OR($R26=0,ISERROR($R26/$I26)),"-",(VLOOKUP($N26,'APP 2885'!$B$10:$G$59,6)*$I26)/($R26+$P26)) -> 4.6371702 | X26: =M26/O26 -> 0.31682861 | Y26: =(M26+P26)/O26 -> 0.73064113 | Z26: =IF($M26=0,"-",(VLOOKUP($N26,'APP 2885'!$B$10:$G$59,4)*$I26)/(M26+P26)) -> 4.5641364
B28: Nominal interest rate (post tax cost of cap.) | C28: 0.0506
B29: Inflation rate | C29: 0.02
B30: Long term real discount rate | C30: 0.0506
B31: Total 2025 Program Admin. | C31: 1044231
B32: Custom Admin. | C32: =C31*0.4 -> 417692.4
B33: Prescriptive Admin. | C33: =C31*0.6 -> 626538.6
B36: 766935

Sheet Projects.25
A1: Invoice | B1: Parent Project | C1: Category | D1: Sub Category 1 | E1: Measure Description | F1: Efficiency Type for Qualification | G1: Current Units | H1: Unit | I1: Cost Total | J1: Current Savings thm | K1: Therm Savings Per Unit | L1: Current Inc Total | M1: Measure Code | N1: Program | O1: Energy Type | P1: Measure Life | Q1: Effective From | R1: Effective To | S1: Incentive Per Unit | T1: Notes | U1: Installer/Trade Ally | V1: Install Date | W1: Existing Meas Model Number | X1: AFUE Eff | Y1: Base Equip Descr | Z1: R-Value Base | AA1: R-Value Installed | AB1: Payee Company (Parent Project) (Project) | AC1: BD Lead (Parent Project) (Project) | AD1: Parent Site | AE1: Address 1 (Parent Site) (Sites) | AF1: City (Parent Site) (Sites) | AG1: Zip (Parent Site) (Sites) | AH1: County (Parent Site) (Sites) | AI1: District (Parent Site) (Sites) | AJ1: Zone (Parent Site) (Sites) | AK1: End Date (Parent Project) (Project) | AL1: Revenue Code (Parent Site) (Sites) | AM1: Project Status (Parent Project) (Project) | AN1: Incremental Cost
A2: CR25-1.01 | B2: 008753-C-PROFESSIONAL TELEPHO | C2: Bonus A - Insulation | D2: Bonus A - Insulation | E2: Insulation Bundle A | F2: Two Insulation Measures, min. 1000 sq. ft.+ | G2: 1 | H2: /unit | I2: 0 | J2: 0 | L2: 500 | M2: COMINSBNDL-7-17 | N2: COM Both | O2: thm | P2: 0 | S2: 500 | U2: Smith Insulation, Inc. | V2: 45653 | AB2: Professional Telephone Service | AC2: Todd Blackman | AD2: PROFESSIONAL TELEPHONE SERVICE | AE2: 1420 MELROSE ST | AF2: Walla Walla | AG2: 99362-1411 | AH2: Walla Walla | AI2: Walla Walla | AJ2: Zone 3 | AK2: 45703 | AL2: 504 | AM2: 7-Completed | AN2: 0
A3: CR25-1.01 | B3: 008753-C-PROFESSIONAL TELEPHO | C3: Insulation | D3: Insulation | E3: Attic Insulation | F3: Tier 2 / Minimum R-45 | G3: 1478 | H3: /sq.ft. | I3: 5144 | J3: 472.96 | K3: 0.32 | L3: 3695 | M3: COMIAT22-19-19 | N3: COM Standard | O3: thm | P3: 30 | Q3: 43515 | S3: 2.5 | T3: POST 2-19-19 | U3: Smith Insulation, Inc. | V3: 45653 | Z3: 0 | AA3: 49 | AB3: Professional Telephone Service | AC3: Todd Blackman | AD3: PROFESSIONAL TELEPHONE SERVICE | AE3: 1420 MELROSE ST | AF3: Walla Walla | AG3: 99362-1411 | AH3: Walla Walla | AI3: Walla Walla | AJ3: Zone 3 | AK3: 45703 | AL3: 504 | AM3: 7-Completed | AN3: 0
A4: CR25-1.01 | B4: 008753-C-PROFESSIONAL TELEPHO | C4: Insulation | D4: Insulation | E4: Floor Insulation | F4: Equal to or greater than R-30 Post and equal to or less than R-11 Pre | G4: 736 | H4: /sq. ft. | I4: 2428 | J4: 41.22 | K4: 0.056 | L4: 920 | M4: COMFLOORINS-4-1-22 | N4: COM Standard | O4: thm | P4: 30 | Q4: 44652 | S4: 1.25 | T4: EFF 4-1-22 | U4: Smith Insulation, Inc. | V4: 45653 | Z4: 0 | AA4: 30 | AB4: Professional Telephone Service | AC4: Todd Blackman | AD4: PROFESSIONAL TELEPHONE SERVICE | AE4: 1420 MELROSE ST | AF4: Walla Walla | AG4: 99362-1411 | AH4: Walla Walla | AI4: Walla Walla | AJ4: Zone 3 | AK4: 45703 | AL4: 504 | AM4: 7-Completed | AN4: 0
A5: CR25-10.01 | B5: 008807-C-LOWE'S HOME IMPROVEM | C5: Bonus - HVAC | E5: HVAC Bonus | G5: 1 | I5: 0 | J5: 0 | K5: 0 | L5: 100 | M5: COMHVACBNS2012 | N5: COM Both | O5: thm | P5: 0 | S5: 100 | U5: Lennox Industries Inc | V5: 45886 | AB5: Lowe's Companies, Inc | AC5: Todd Blackman | AD5: LOWE'S HOME IMPROVEMENT | AE5: 1020 N COLORADO ST | AF5: Kennewick | AG5: 99336 | AH5: Benton | AI5: Kennewick | AJ5: Zone 3 | AK5: 45972 | AL5: 504 | AM5: 7-Completed | AN5: 0
A6: CR25-10.01 | B6: 008807-C-LOWE'S HOME IMPROVEM | C6: Controls | D6: Controls | E6: Demand Control Ventilation | F6: Meet JUARC Guidelines for DCV RTUs in 5-20 ton | G6: 212.5 | H6: /ton | I6: 308840.76 | J6: 2401.12 | K6: 11.3041 | L6: 10625 | M6: COMDCV-3-15-24 | N6: COM Standard | O6: thm | P6: 15 | Q6: 45366 | S6: 50 | T6: EFF 3-15-24 | U6: Lennox Industries Inc | V6: 45886 | W6: Lennox LGM240U5M | AB6: Lowe's Companies, Inc | AC6: Todd Blackman | AD6: LOWE'S HOME IMPROVEMENT | AE6: 1020 N COLORADO ST | AF6: Kennewick | AG6: 99336 | AH6: Benton | AI6: Kennewick | AJ6: Zone 3 | AK6: 45972 | AL6: 504 | AM6: 7-Completed | AN6: 0
A7: CR25-10.01 | B7: 008805-C-PIONEER MEADOWS MONT | C7: Water Heaters | D7: Domestic Hot Water | E7: Energy Star | F7: Minimum .93 Energy Factor | G7: 6 | H7: /gpm | I7: 6367.35 | J7: 228 | K7: 38 | L7: 900 | M7: COMTANKLESST22-19-19 | N7: COM Standard | O7: thm | P7: 20 | Q7: 43515 | S7: 150 | T7: POST 2-19-19 | U7: Barron Heating and Air Conditioning Inc | V7: 45814 | W7: Navien NPE-240A | X7: 95 | Y7: Less than 58% | AB7: Meadows Montessori School | AC7: Brian Farnsworth | AD7: PIONEER MEADOWS MONTESSORI | AE7: 2377 DOUGLAS RD | AF7: Ferndale | AG7: 98248 | AH7: Whatcom | AI7: Bellingham | AJ7: Zone 1 | AK7: 45972 | AL7: 504 | AM7: 7-Completed | AN7: 0
A8: CR25-10.01 | B8: 008806-C-NEW LIFE FELLOWSHIP | C8: Insulation | D8: Insulation | E8: Attic Insulation | F8: Tier 2 / Minimum R-45 | G8: 14568 | H8: /sq.ft. | I8: 37170 | J8: 4661.76 | K8: 0.32 | L8: 36420 | M8: COMIAT22-19-19 | N8: COM Standard | O8: thm | P8: 30 | Q8: 43515 | S8: 2.5 | T8: POST 2-19-19 | U8: A&Z Insulation | V8: 45934 | Z8: 0 | AA8: 49 | AB8: A&Z Insulation | AC8: Brian Farnsworth | AD8: NEW LIFE FELLOWSHIP CHURCH | AE8: 810 E POLE RD | AF8: Lynden | AG8: 98264-9661 | AH8: Whatcom | AI8: Bellingham | AJ8: Zone 1 | AK8: 45972 | AL8: 504 | AM8: 7-Completed | AN8: 0
A9: CR25-10.02 | B9: 008808-C-AIRPORTER SHUTTLE | C9: Bonus - HVAC | E9: HVAC Bonus | G9: 1 | I9: 0 | J9: 0 | K9: 0 | L9: 100 | M9: COMHVACBNS2012 | N9: COM Both | O9: thm | P9: 0 | S9: 100 | U9: Feller Heating & AC | V9: 45943 | AB9: Airporter Shuttle | AC9: Brian Farnsworth | AD9: AIRPORTER SHUTTLE | AE9: 844 S ALDER ST | AF9: Burlington | AG9: 98233-2800 | AH9: Skagit | AI9: Mount Vernon | AJ9: Zone 1 | AK9: 45972 | AL9: 504 | AM9: 7-Completed | AN9: 0
A10: CR25-10.02 | B10: 008809-C-LARSON BUILDING LLC | C10: Bonus - HVAC | E10: HVAC Bonus | G10: 1 | I10: 0 | J10: 0 | K10: 0 | L10: 100 | M10: COMHVACBNS2012 | N10: COM Both | O10: thm | P10: 0 | S10: 100 | U10: Central Washington Refrigeration, LLC | V10: 45768 | AB10: Megalodon LLC | AC10: Todd Blackman | AD10: LARSON BUILDING LLC | AE10: 6 S 2ND ST | AF10: Yakima | AG10: 98901-2632 | AH10: Yakima | AI10: Yakima | AJ10: Zone 3 | AK10: 45972 | AL10: 504 | AM10: 7-Completed | AN10: 0
A11: CR25-10.02 | B11: 008809-C-LARSON BUILDING LLC | C11: Bonus - HVAC | E11: HVAC Bonus | G11: 1 | I11: 0 | J11: 0 | K11: 0 | L11: 100 | M11: COMHVACBNS2012 | N11: COM Both | O11: thm | P11: 0 | S11: 100 | U11: Central Washington Refrigeration, LLC | V11: 45768 | AB11: Megalodon LLC | AC11: Todd Blackman | AD11: LARSON BUILDING LLC | AE11: 6 S 2ND ST | AF11: Yakima | AG11: 98901-2632 | AH11: Yakima | AI11: Yakima | AJ11: Zone 3 | AK11: 45972 | AL11: 504 | AM11: 7-Completed | AN11: 0
A12: CR25-10.02 | B12: 008808-C-AIRPORTER SHUTTLE | C12: Furnaces | D12: Furnaces | E12: High-Efficiency Condensing Furnace | F12: Minimum 91% AFUE | G12: 60 | H12: /kBtu/hr in | I12: 3137.5 | J12: 66 | K12: 1.1 | L12: 360 | M12: COMFURNACE3-15-24 | N12: COM Standard | O12: thm | P12: 18 | Q12: 45366 | S12: 6 | T12: EFF 3-15-24 | U12: Feller Heating & AC | V12: 45943 | W12: AS S9X2B060U4PSBB | X12: 96 | AB12: Airporter Shuttle | AC12: Brian Farnsworth | AD12: AIRPORTER SHUTTLE | AE12: 844 S ALDER ST | AF12: Burlington | AG12: 98233-2800 | AH12: Skagit | AI12: Mount Vernon | AJ12: Zone 1 | AK12: 45972 | AL12: 504 | AM12: 7-Completed | AN12: 0
A13: CR25-10.02 | B13: 008809-C-LARSON BUILDING LLC | C13: Boilers | D13: Boilers | E13: High-Efficiency-Condensing Boiler | F13: Minimum 94% Thermal Efficiency and 300 kBtu/hr input | G13: 999 | H13: /kBtu/hr in | I13: 71961.23 | J13: 2097.9 | K13: 2.1 | L13: 10239.75 | M13: COMBOILERS-3-15-24 | N13: COM Standard | O13: thm | P13: 25 | Q13: 45366 | S13: 10.25 | T13: EFF 3-15-24 | U13: Central Washington Refrigeration, LLC | V13: 45768 | W13: Raypak H7-1007 | X13: 95 | Y13: Less than 80% | AB13: Megalodon LLC | AC13: Todd Blackman | AD13: LARSON BUILDING LLC | AE13: 6 S 2ND ST | AF13: Yakima | AG13: 98901-2632 | AH13: Yakima | AI13: Yakima | AJ13: Zone 3 | AK13: 45972 | AL13: 504 | AM13: 7-Completed | AN13: 0
A14: CR25-10.02 | B14: 008809-C-LARSON BUILDING LLC | C14: Boilers | D14: Boilers | E14: High-Efficiency-Condensing Boiler | F14: Minimum 94% Thermal Efficiency and 300 kBtu/hr input | G14: 999 | H14: /kBtu/hr in | I14: 71961.23 | J14: 2097.9 | K14: 2.1 | L14: 10239.75 | M14: COMBOILERS-3-15-24 | N14: COM Standard | O14: thm | P14: 25 | Q14: 45366 | S14: 10.25 | T14: EFF 3-15-24 | U14: Central Washington Refrigeration, LLC | V14: 45768 | W14: Raypak H7-1007 | X14: 95 | Y14: Less than 80% | AB14: Megalodon LLC | AC14: Todd Blackman | AD14: LARSON BUILDING LLC | AE14: 6 S 2ND ST | AF14: Yakima | AG14: 98901-2632 | AH14: Yakima | AI14: Yakima | AJ14: Zone 3 | AK14: 45972 | AL14: 504 | AM14: 7-Completed | AN14: 0
A15: CR25-10.02 | B15: 008811-C-Apex Fitness NW | C15: Custom Insulation | D15: Custom | E15: Custom attic insulation | F15: Custom attic insulation | G15: 1 | H15: /unit | I15: 13244 | J15: 438 | K15: 0 | L15: 9005 | M15: COMCUSTINS | N15: COM Custom | O15: thm | P15: 30 | S15: 0 | T15: 6650 sq ft attic insulation | U15: Coast Insulation | V15: 45915 | Z15: 5 | AA15: 38 | AB15: Apex Fitness NW | AC15: Brian Farnsworth | AD15: Apex Fitness NW | AE15: 1708 KENTUCKY ST | AF15: Bellingham | AG15: 98229 | AH15: Whatcom | AI15: Bellingham | AJ15: Zone 1 | AK15: 45972 | AL15: 504 | AM15: 7-Completed | AN15: 0
A16: CR25-10.02 | B16: 008811-C-Apex Fitness NW | C16: Insulation | D16: Insulation | E16: Wall Insulation | F16: Tier 2 / Minimum R-19 | G16: 900 | H16: /sq. ft. | I16: 3951 | J16: 171 | K16: 0.19 | L16: 1800 | M16: COMIWT2-4-1-22 | N16: COM Standard | O16: thm | P16: 30 | Q16: 44652 | S16: 2 | T16: EFF 4-1-22 | U16: Coast Insulation | V16: 45915 | Z16: 0 | AA16: 38 | AB16: Apex Fitness NW | AC16: Brian Farnsworth | AD16: Apex Fitness NW | AE16: 1708 KENTUCKY ST | AF16: Bellingham | AG16: 98229 | AH16: Whatcom | AI16: Bellingham | AJ16: Zone 1 | AK16: 45972 | AL16: 504 | AM16: 7-Completed | AN16: 0
A17: CR25-10.02 | B17: 008811-C-Apex Fitness NW | C17: Insulation | D17: Insulation | E17: Wall Insulation | F17: Tier 2 / Minimum R-19 | G17: 640 | H17: /sq. ft. | I17: 2808.26 | J17: 121.6 | K17: 0.19 | L17: 1280 | M17: COMIWT2-4-1-22 | N17: COM Standard | O17: thm | P17: 30 | Q17: 44652 | S17: 2 | T17: EFF 4-1-22 | U17: Coast Insulation | V17: 45915 | Z17: 0 | AA17: 38 | AB17: Apex Fitness NW | AC17: Brian Farnsworth | AD17: Apex Fitness NW | AE17: 1708 KENTUCKY ST | AF17: Bellingham | AG17: 98229 | AH17: Whatcom | AI17: Bellingham | AJ17: Zone 1 | AK17: 45972 | AL17: 504 | AM17: 7-Completed | AN17: 0
A18: CR25-11.01 | B18: 008810-C-SUDDEN VALLEY COMMUN | C18: Bonus - HVAC | E18: HVAC Bonus | G18: 1 | I18: 0 | J18: 0 | K18: 0 | L18: 100 | M18: COMHVACBNS2012 | N18: COM Both | O18: thm | P18: 0 | S18: 100 | U18: Marr's Heating & Air Conditioning Inc | V18: 45894 | AB18: Marr's Heating & AC Inc | AC18: Brian Farnsworth | AD18: SUDDEN VALLEY COMMUNITY ASSOC | AE18: 8 BARNVIEW CT | AF18: Bellingham | AG18: 98229 | AH18: Whatcom | AI18: Bellingham | AJ18: Zone 1 | AK18: 46008 | AL18: 504 | AM18: 7-Completed | AN18: 0
A19: CR25-11.01 | B19: 008812-C-Advanced Concepts LL | C19: Bonus A - Insulation | D19: Bonus A - Insulation | E19: Insulation Bundle A | F19: Two Insulation Measures, min. 1000 sq. ft.+ | G19: 1 | H19: /unit | I19: 0 | J19: 0 | L19: 500 | M19: COMINSBNDL-7-17 | N19: COM Both | O19: thm | P19: 0 | S19: 500 | U19: A&Z Insulation | V19: 45930 | AA19: 30 | AB19: A&Z Insulation | AC19: Brian Farnsworth | AD19: Advanced Concepts LLC | AE19: 210 Northern Ave | AF19: Sedro Woolley | AG19: 98284 | AI19: Mount Vernon | AJ19: Zone 1 | AK19: 46008 | AL19: 504 | AM19: 7-Completed | AN19: 0
A20: CR25-11.01 | B20: 008810-C-SUDDEN VALLEY COMMUN | C20: Furnaces | D20: Furnaces | E20: High-Efficiency Condensing Furnace | F20: Minimum 91% AFUE | G20: 100 | H20: /kBtu/hr in | I20: 6739 | J20: 110 | K20: 1.1 | L20: 600 | M20: COMFURNACE3-15-24 | N20: COM Standard | O20: thm | P20: 18 | Q20: 45366 | S20: 6 | T20: EFF 3-15-24 | U20: Marr's Heating & Air Conditioning Inc | V20: 45894 | W20: AS S9X1C100U5PSB | X20: 95 | AB20: Marr's Heating & AC Inc | AC20: Brian Farnsworth | AD20: SUDDEN VALLEY COMMUNITY ASSOC | AE20: 8 BARNVIEW CT | AF20: Bellingham | AG20: 98229 | AH20: Whatcom | AI20: Bellingham | AJ20: Zone 1 | AK20: 46008 | AL20: 504 | AM20: 7-Completed | AN20: 0
A21: CR25-11.01 | B21: 008812-C-Advanced Concepts LL | C21: Custom Insulation | D21: Custom | E21: Custom wall insulation | F21: Custom wall insulation | G21: 1 | H21: /unit | I21: 3780 | J21: 136 | K21: 0 | L21: 2660 | M21: COMCUSTINS | N21: COM Custom | O21: thm | P21: 30 | S21: 0 | T21: 1400 sf custom wall insulation | U21: A&Z Insulation | V21: 45915 | Z21: 0 | AA21: 15 | AB21: A&Z Insulation | AC21: Brian Farnsworth | AD21: Advanced Concepts LLC | AE21: 210 Northern Ave | AF21: Sedro Woolley | AG21: 98284 | AI21: Mount Vernon | AJ21: Zone 1 | AK21: 46008 | AL21: 504 | AM21: 7-Completed | AN21: 0
A22: CR25-11.01 | B22: 008812-C-Advanced Concepts LL | C22: Insulation | D22: Insulation | E22: Attic Insulation | F22: Tier 1 / Minimum R-30 | G22: 2000 | H22: /sq.ft. | I22: 7500 | J22: 620 | K22: 0.31 | L22: 4000 | M22: COMIAT12-19-19 | N22: COM Standard | O22: thm | P22: 30 | Q22: 43515 | S22: 2 | T22: POST 2-19-19 | U22: A&Z Insulation | V22: 45930 | Z22: 0 | AA22: 30 | AB22: A&Z Insulation | AC22: Brian Farnsworth | AD22: Advanced Concepts LLC | AE22: 210 Northern Ave | AF22: Sedro Woolley | AG22: 98284 | AI22: Mount Vernon | AJ22: Zone 1 | AK22: 46008 | AL22: 504 | AM22: 7-Completed | AN22: 0
A23: CR25-11.01 | B23: 008812-C-Advanced Concepts LL | C23: Insulation | D23: Insulation | E23: Wall Insulation | F23: Tier 2 / Minimum R-19 | G23: 1200 | H23: /sq. ft. | I23: 5580 | J23: 228 | K23: 0.19 | L23: 2400 | M23: COMIWT2-4-1-22 | N23: COM Standard | O23: thm | P23: 30 | Q23: 44652 | S23: 2 | T23: EFF 4-1-22 | U23: A&Z Insulation | V23: 45930 | Z23: 0 | AA23: 21 | AB23: A&Z Insulation | AC23: Brian Farnsworth | AD23: Advanced Concepts LLC | AE23: 210 Northern Ave | AF23: Sedro Woolley | AG23: 98284 | AI23: Mount Vernon | AJ23: Zone 1 | AK23: 46008 | AL23: 504 | AM23: 7-Completed | AN23: 0
A24: CR25-11.01 | B24: 008813-C-The Fat Moose Bar an | C24: Insulation | D24: Insulation | E24: Wall Insulation | F24: Tier 2 / Minimum R-19 | G24: 450 | H24: /sq. ft. | I24: 1421.4 | J24: 85.5 | K24: 0.19 | L24: 900 | M24: COMIWT2-4-1-22 | N24: COM Standard | O24: thm | P24: 30 | Q24: 44652 | S24: 2 | T24: EFF 4-1-22 | U24: Two Brothers Insulating, LLC | V24: 45925 | Z24: 0 | AA24: 19 | AB24: Two Brothers Insulating, LLC | AC24: Brian Farnsworth | AD24: The Fat Moose Bar and Grill | AE24: 1388 N GOERIG ST | AF24: Woodland | AG24: 98674-9406 | AH24: Cowlitz | AI24: Longview | AJ24: Zone 2 | AK24: 46008.125 | AL24: 504 | AM24: 7-Completed | AN24: 0
A25: CR25-12.01 | B25: 008815-C-CHURCH OF GOD SEVENT | C25: Bonus A - Insulation | D25: Bonus A - Insulation | E25: Insulation Bundle A | F25: Two Insulation Measures, min. 1000 sq. ft.+ | G25: 1 | H25: /unit | I25: 0 | J25: 0 | L25: 500 | M25: COMINSBNDL-7-17 | N25: COM Both | O25: thm | P25: 0 | S25: 500 | U25: East Valley Insulation, LLC | V25: 45689 | AB25: Church of God 7th Day | AC25: Todd Blackman | AD25: CHURCH OF GOD SEVENTH DAY | AE25: 1 CHEHALIS AVE | AF25: Toppenish | AG25: 98948 | AH25: Yakima | AI25: Yakima | AJ25: Zone 3 | AK25: 46010 | AL25: 504 | AM25: 7-Completed | AN25: 0
A26: CR25-12.01 | B26: 008814-C-BARNARD GRIFFIN WINE | C26: Water Heaters | D26: Domestic Hot Water | E26: Energy Star | F26: Minimum .93 Energy Factor | G26: 6 | H26: /gpm | I26: 9925 | J26: 228 | K26: 38 | L26: 900 | M26: COMTANKLESST22-19-19 | N26: COM Standard | O26: thm | P26: 20 | Q26: 43515 | S26: 150 | T26: POST 2-19-19 | U26: Atomic Plumbing & Mechanical | V26: 45960 | W26: Rinnai CX199i | X26: 98 | AB26: Barnard Griffin Inc | AC26: Brian Farnsworth | AD26: BARNARD GRIFFIN WINERY | AE26: 878 TULIP LN | AF26: Richland | AG26: 99352-8588 | AH26: Benton | AI26: Kennewick | AJ26: Zone 3 | AK26: 46010 | AL26: 504 | AM26: 7-Completed | AN26: 0
A27: CR25-12.01 | B27: 008814-C-BARNARD GRIFFIN WINE | C27: Water Heaters | D27: Domestic Hot Water | E27: Energy Star | F27: Minimum .93 Energy Factor | G27: 6 | H27: /gpm | I27: 9925 | J27: 228 | K27: 38 | L27: 900 | M27: COMTANKLESST22-19-19 | N27: COM Standard | O27: thm | P27: 20 | Q27: 43515 | S27: 150 | T27: POST 2-19-19 | U27: Atomic Plumbing & Mechanical | V27: 45960 | W27: Rinnai CX199i | X27: 98 | AB27: Barnard Griffin Inc | AC27: Brian Farnsworth | AD27: BARNARD GRIFFIN WINERY | AE27: 878 TULIP LN | AF27: Richland | AG27: 99352-8588 | AH27: Benton | AI27: Kennewick | AJ27: Zone 3 | AK27: 46010 | AL27: 504 | AM27: 7-Completed | AN27: 0
A28: CR25-12.01 | B28: 008815-C-CHURCH OF GOD SEVENT | C28: Insulation | D28: Insulation | E28: Attic Insulation | F28: Tier 2 / Minimum R-45 | G28: 1500 | H28: /sq.ft. | I28: 4000 | J28: 480 | K28: 0.32 | L28: 3750 | M28: COMIAT22-19-19 | N28: COM Standard | O28: thm | P28: 30 | Q28: 43515 | S28: 2.5 | T28: POST 2-19-19 | U28: East Valley Insulation, LLC | V28: 45689 | Z28: 0 | AA28: 49 | AB28: Church of God 7th Day | AC28: Todd Blackman | AD28: CHURCH OF GOD SEVENTH DAY | AE28: 1 CHEHALIS AVE | AF28: Toppenish | AG28: 98948 | AH28: Yakima | AI28: Yakima | AJ28: Zone 3 | AK28: 46010 | AL28: 504 | AM28: 7-Completed | AN28: 0
A29: CR25-12.01 | B29: 008815-C-CHURCH OF GOD SEVENT | C29: Insulation | D29: Insulation | E29: Floor Insulation | F29: Equal to or greater than R-30 Post and equal to or less than R-11 Pre | G29: 1500 | H29: /sq. ft. | I29: 2800 | J29: 84 | K29: 0.056 | L29: 1875 | M29: COMFLOORINS-4-1-22 | N29: COM Standard | O29: thm | P29: 30 | Q29: 44652 | S29: 1.25 | T29: EFF 4-1-22 | U29: East Valley Insulation, LLC | V29: 45689 | Z29: 0 | AA29: 30 | AB29: Church of God 7th Day | AC29: Todd Blackman | AD29: CHURCH OF GOD SEVENTH DAY | AE29: 1 CHEHALIS AVE | AF29: Toppenish | AG29: 98948 | AH29: Yakima | AI29: Yakima | AJ29: Zone 3 | AK29: 46010 | AL29: 504 | AM29: 7-Completed | AN29: 0
A30: CR25-12.01 | B30: 008815-C-CHURCH OF GOD SEVENT | C30: Insulation | D30: Insulation | E30: Wall Insulation | F30: Tier 2 / Minimum R-19 | G30: 1500 | H30: /sq. ft. | I30: 3400 | J30: 285 | K30: 0.19 | L30: 3000 | M30: COMIWT2-4-1-22 | N30: COM Standard | O30: thm | P30: 30 | Q30: 44652 | S30: 2 | T30: EFF 4-1-22 | U30: East Valley Insulation, LLC | V30: 45689 | Z30: 0 | AA30: 19 | AB30: Church of God 7th Day | AC30: Todd Blackman | AD30: CHURCH OF GOD SEVENTH DAY | AE30: 1 CHEHALIS AVE | AF30: Toppenish | AG30: 98948 | AH30: Yakima | AI30: Yakima | AJ30: Zone 3 | AK30: 46010 | AL30: 504 | AM30: 7-Completed | AN30: 0
A31: CR25-2.01 | B31: 008755-C-DICKERSON DISTRIBUTO | C31: Bonus - HVAC | E31: HVAC Bonus | G31: 1 | I31: 0 | J31: 0 | K31: 0 | L31: 100 | M31: COMHVACBNS2012 | N31: COM Both | O31: thm | P31: 0 | S31: 100 | U31: Lynden Sheet Metal, Inc. | V31: 45464 | AB31: Dickerson Distributors | AC31: Brian Farnsworth | AD31: DICKERSON DISTRIBUTORS INC | AE31: 1313 MEADOR AVE | AF31: Bellingham | AG31: 98229-5803 | AH31: Whatcom | AI31: Bellingham | AJ31: Zone 1 | AK31: 45713 | AL31: 504 | AM31: 7-Completed | AN31: 0
